BEGIN:VCALENDAR
VERSION:2.0
PRODID:-//wp-events-plugin.com//7.2.3.1//EN
TZID:America/New_York
X-WR-TIMEZONE:America/New_York
BEGIN:VEVENT
UID:206@apattknox.com
DTSTART;TZID=America/New_York:20261123T140000
DTEND;TZID=America/New_York:20261123T190000
DTSTAMP:20251229T142855Z
URL:https://apattknox.com/events/meal-service-at-st-johns-lutheran-3-2026-
 01-05-2026-01-12-2026-01-19-2026-01-26-2026-02-02-2026-02-09-2026-02-16-20
 26-02-23-2026-03-02-2026-03-09-2026-03-16-2026-03-23-2026-03-30-2026-04-16
 -2026-11-23/
SUMMARY:Meal Service at St. John's Lutheran
DESCRIPTION:Make a difference in our community by volunteering for our week
 ly meal service! There are several ways to get involved: join the Kitchen 
 Team to help prepare and cook delicious meals (no professional experience 
 needed)\, be part of the Serving Team to serve meals and connect with our 
 guests\, or lend a hand as a Floater to step in wherever needed to ensure 
 everything runs smoothly. Sign up today and help create a warm and welcomi
 ng experience for those in need!
CATEGORIES:Volunteer Opportunity
LOCATION:St. Johns Lutheran Church\, 544 N Broadway\, Knoxville\, TN\, 3791
 7\, United States
X-APPLE-STRUCTURED-LOCATION;VALUE=URI;X-ADDRESS=544 N Broadway\, Knoxville\
 , TN\, 37917\, United States;X-APPLE-RADIUS=100;X-TITLE=St. Johns Lutheran
  Church:geo:0,0
END:VEVENT
BEGIN:VTIMEZONE
TZID:America/New_York
X-LIC-LOCATION:America/New_York
BEGIN:STANDARD
DTSTART:20261101T010000
TZOFFSETFROM:-0400
TZOFFSETTO:-0500
TZNAME:EST
END:STANDARD
END:VTIMEZONE
END:VCALENDAR